BEGIN:VCALENDAR
VERSION:2.0
PRODID:-//pretix//AStA_Fahrradwerkstatt//
BEGIN:VTIMEZONE
TZID:Europe/Berlin
BEGIN:STANDARD
DTSTART:20001029T040000
RRULE:FREQ=YEARLY;BYDAY=-1SU;BYMONTH=10
TZNAME:CET
TZOFFSETFROM:+0200
TZOFFSETTO:+0100
END:STANDARD
BEGIN:DAYLIGHT
DTSTART:20000326T030000
RRULE:FREQ=YEARLY;BYDAY=-1SU;BYMONTH=3
TZNAME:CEST
TZOFFSETFROM:+0100
TZOFFSETTO:+0200
END:DAYLIGHT
END:VTIMEZONE
BEGIN:VEVENT
UID:pretix-fahrradwerkstatt-arbeitsplatz-918@buchung.asta-fahrradwerkstatt.
 de
DTSTART;TZID=Europe/Berlin:20260325T143000
DTEND;TZID=Europe/Berlin:20260325T150000
DESCRIPTION:Tickets: https://buchung.asta-fahrradwerkstatt.de/fahrradwerkst
 att/arbeitsplatz/918/\nVeranstalter: AStA Fahrradwerkstatt e.V.
DTSTAMP:20260422T121701Z
LOCATION:AStA Selbsthilfewerkstatt Campus Westend
SUMMARY:Arbeitsplatz
END:VEVENT
END:VCALENDAR
